BEGIN:VCALENDAR
VERSION:2.0
PRODID:-//Mission Locale Jeunes - ECPv6.15.20//NONSGML v1.0//EN
CALSCALE:GREGORIAN
METHOD:PUBLISH
X-ORIGINAL-URL:https://mlipch.com
X-WR-CALDESC:Évènements pour Mission Locale Jeunes
REFRESH-INTERVAL;VALUE=DURATION:PT1H
X-Robots-Tag:noindex
X-PUBLISHED-TTL:PT1H
BEGIN:VTIMEZONE
TZID:Europe/Paris
BEGIN:DAYLIGHT
TZOFFSETFROM:+0100
TZOFFSETTO:+0200
TZNAME:CEST
DTSTART:20220327T010000
END:DAYLIGHT
BEGIN:STANDARD
TZOFFSETFROM:+0200
TZOFFSETTO:+0100
TZNAME:CET
DTSTART:20221030T010000
END:STANDARD
BEGIN:DAYLIGHT
TZOFFSETFROM:+0100
TZOFFSETTO:+0200
TZNAME:CEST
DTSTART:20230326T010000
END:DAYLIGHT
BEGIN:STANDARD
TZOFFSETFROM:+0200
TZOFFSETTO:+0100
TZNAME:CET
DTSTART:20231029T010000
END:STANDARD
BEGIN:DAYLIGHT
TZOFFSETFROM:+0100
TZOFFSETTO:+0200
TZNAME:CEST
DTSTART:20240331T010000
END:DAYLIGHT
BEGIN:STANDARD
TZOFFSETFROM:+0200
TZOFFSETTO:+0100
TZNAME:CET
DTSTART:20241027T010000
END:STANDARD
END:VTIMEZONE
BEGIN:VEVENT
DTSTART;TZID=Europe/Paris:20231102T090000
DTEND;TZID=Europe/Paris:20231130T170000
DTSTAMP:20260419T143055
CREATED:20231024T142642Z
LAST-MODIFIED:20231122T110946Z
UID:5873-1698915600-1701363600@mlipch.com
SUMMARY:Atelier simulateur de conduite - novembre 2023
DESCRIPTION:La session pour l’atelier « Simulateur de Conduite » aura lieu prochainement ! \nUne superbe occasion pour s’initier à une conduite responsable à travers un simulateur de conduite !\nCelle-ci comporte donc 6 dates :\n\n\nJeudi 02/11 (14h-17h)\nVendredi 03/11 (9h-12h)\nMardi 07/11 (14h-17h)\nJeudi 09/11 (14h-17h)\nMardi 14/11 (14h-17h)\nJeudi 16/11 (14h-17h)\nVendredi 17/11 (9h-12h)\nMardi 21/11 (14h-17h)\nJeudi 23/11 (14h-17h)\nJeudi 30/11 (14h-17h)\n\n\nLes ateliers se dérouleront à la Mission Locale à Lunel ! \nInscription obligatoire.\nNombre de places limité !  \nIntéressé.e ? Parles-en à ton.ta conseiller.ère de la Mission Locale\, ou bien contactes le numéro suivant : 04 67 83 37 41 (Lunel)  ou bien celui-ci : 04 67 29 26 38 (Mauguio)
URL:https://mlipch.com/event/atelier-simulateur-de-conduite-novembre-2023/
LOCATION:Lunel
ATTACH;FMTTYPE=image/jpeg:https://mlipch.com/wp-content/uploads/2023/10/LES-ATELIERS.jpg
END:VEVENT
END:VCALENDAR